BEGIN:VCALENDAR
VERSION:2.0
PRODID:SchoolNow
CALSCALE:GREGORIAN
BEGIN:VEVENT
UID:fc040d90-7020-11ed-96ae-0e089800ab99
DTSTAMP:20221129T200408Z
SUMMARY:Toys for Tots
URL;VALUE=URI:https://www.albanyschools.org/schools/northalbany/calendar/36
 28511/toys-for-tots
DTSTART:20221221T220000Z
DTEND:20221222T000000Z
END:VEVENT
END:VCALENDAR
