BEGIN:VCALENDAR
VERSION:2.0
PRODID:SchoolNow
CALSCALE:GREGORIAN
BEGIN:VEVENT
UID:1ba0bd1a-7021-11ed-91ea-0e7016c9e2bb
DTSTAMP:20230125T153151Z
SUMMARY:PTO meeting
URL;VALUE=URI:https://www.albanyschools.org/schools/northalbany/calendar/36
 28512/pto-meeting
DTSTART:20230131T230000Z
DTEND:20230201T003000Z
END:VEVENT
END:VCALENDAR
