BEGIN:VCALENDAR
VERSION:2.0
PRODID:SchoolNow
CALSCALE:GREGORIAN
BEGIN:VEVENT
UID:a733b38c-7021-11ed-9c67-0ed4ae006995
DTSTAMP:20230228T172942Z
SUMMARY:PTO meeting (virtual)
URL;VALUE=URI:https://www.albanyschools.org/schools/northalbany/calendar/36
 28514/pto-meeting-virtual
DTSTART:20230228T230000Z
DTEND:20230301T003000Z
END:VEVENT
END:VCALENDAR
