BEGIN:VCALENDAR
VERSION:2.0
PRODID:SchoolNow
CALSCALE:GREGORIAN
BEGIN:VEVENT
UID:b2027852-7021-11ed-b639-0ed4ae006995
DTSTAMP:20230307T154855Z
SUMMARY:PTO meeting
URL;VALUE=URI:https://www.albanyschools.org/schools/northalbany/calendar/36
 28515/pto-meeting-clone
DTSTART:20230322T220000Z
DTEND:20230322T233000Z
END:VEVENT
END:VCALENDAR
