BEGIN:VCALENDAR
VERSION:2.0
PRODID:SchoolNow
CALSCALE:GREGORIAN
BEGIN:VEVENT
UID:bd6f34fa-7021-11ed-a1c7-0ed4ae006995
DTSTAMP:20221129T200933Z
SUMMARY:PTO meeting
URL;VALUE=URI:https://www.albanyschools.org/schools/northalbany/calendar/36
 28516/pto-meeting-clone
DTSTART:20230426T220000Z
DTEND:20230426T233000Z
END:VEVENT
END:VCALENDAR
