BEGIN:VCALENDAR
VERSION:2.0
PRODID:SchoolNow
CALSCALE:GREGORIAN
BEGIN:VEVENT
UID:517064ea-74b3-11ed-8423-0ea153a96e33
DTSTAMP:20221207T140318Z
SUMMARY:Honor Roll Ceremony
URL;VALUE=URI:https://www.albanyschools.org/schools/northalbany/calendar/36
 34828/honor-roll-ceremony
DTSTART:20221213T140000Z
DTEND:20221213T150000Z
END:VEVENT
END:VCALENDAR
