BEGIN:VCALENDAR
VERSION:2.0
PRODID:SchoolNow
CALSCALE:GREGORIAN
BEGIN:VEVENT
UID:f46fddec-7fda-11ed-958a-027cb3ec5289
DTSTAMP:20221219T202605Z
SUMMARY:North Albany Holiday Party
LOCATION:North Albany Middle School Gymnasium
URL;VALUE=URI:https://www.albanyschools.org/schools/northalbany/calendar/36
 47910/north-albany-holiday-party
DTSTART:20221221T220000Z
DTEND:20221222T000000Z
END:VEVENT
END:VCALENDAR
