BEGIN:VCALENDAR
VERSION:2.0
PRODID:SchoolNow
CALSCALE:GREGORIAN
BEGIN:VEVENT
UID:19e9d1e0-a637-11ed-9a72-0acc2041a0fd
DTSTAMP:20230207T220624Z
SUMMARY:Hon-a-Roll Ceremony
URL;VALUE=URI:https://www.albanyschools.org/schools/northalbany/calendar/37
 21369/hon-a-roll-ceremony
DTSTART:20230215T140000Z
DTEND:20230215T153000Z
END:VEVENT
END:VCALENDAR
