BEGIN:VCALENDAR
VERSION:2.0
PRODID:SchoolNow
CALSCALE:GREGORIAN
BEGIN:VEVENT
UID:296db4c4-a637-11ed-8aa8-0acc2041a0fd
DTSTAMP:20230206T155856Z
SUMMARY:Character Cohort Day
URL;VALUE=URI:https://www.albanyschools.org/schools/northalbany/calendar/37
 21370/character-cohort-day
DTSTART:20230217T155800Z
DTEND:20230217T165800Z
END:VEVENT
END:VCALENDAR
