BEGIN:VCALENDAR
VERSION:2.0
PRODID:SchoolNow
CALSCALE:GREGORIAN
BEGIN:VEVENT
UID:05fdb0ec-a674-11ed-87da-0e73207e24b5
DTSTAMP:20230210T155507Z
SUMMARY:PBIS Dance
URL;VALUE=URI:https://www.albanyschools.org/schools/northalbany/calendar/37
 22554/pbis-dance
DTSTART:20230216T201500Z
DTEND:20230216T223000Z
END:VEVENT
END:VCALENDAR
