BEGIN:VCALENDAR
VERSION:2.0
PRODID:SchoolNow
CALSCALE:GREGORIAN
BEGIN:VEVENT
UID:27e6f7c4-a95b-11ed-99ed-0a3b38c91411
DTSTAMP:20230210T155432Z
SUMMARY:Spirit Week
URL;VALUE=URI:https://www.albanyschools.org/schools/northalbany/calendar/37
 34060/spirit-week
DTSTART:20230213T155200Z
DTEND:20230217T165200Z
END:VEVENT
END:VCALENDAR
