BEGIN:VCALENDAR
VERSION:2.0
PRODID:SchoolNow
CALSCALE:GREGORIAN
BEGIN:VEVENT
UID:c5c42084-a95b-11ed-819e-0a3b38c91411
DTSTAMP:20230214T144445Z
SUMMARY:Parent Coffee Chat
URL;VALUE=URI:https://www.albanyschools.org/schools/northalbany/calendar/37
 34061/parent-coffee-chat
DTSTART:20230216T203000Z
DTEND:20230216T213000Z
END:VEVENT
END:VCALENDAR
