BEGIN:VCALENDAR
VERSION:2.0
PRODID:SchoolNow
CALSCALE:GREGORIAN
BEGIN:VEVENT
UID:363913dc-b85d-11ed-874f-0e7cd1e622ab
DTSTAMP:20230301T183105Z
SUMMARY:College & Career Week
URL;VALUE=URI:https://www.albanyschools.org/schools/northalbany/calendar/38
 00328/college-career-week
DTSTART;VALUE=DATE:20230320
DTEND;VALUE=DATE:20230325
END:VEVENT
END:VCALENDAR
