BEGIN:VCALENDAR
VERSION:2.0
PRODID:SchoolNow
CALSCALE:GREGORIAN
BEGIN:VEVENT
UID:a14b4ec8-bcff-11ed-9c57-0ed6a417071b
DTSTAMP:20230307T154922Z
SUMMARY:Parent Coffee Chat
URL;VALUE=URI:https://www.albanyschools.org/schools/northalbany/calendar/38
 30963/parent-coffee-chat
DTSTART:20230316T073000Z
DTEND:20230316T203000Z
END:VEVENT
END:VCALENDAR
