BEGIN:VCALENDAR
VERSION:2.0
PRODID:SchoolNow
CALSCALE:GREGORIAN
BEGIN:VEVENT
UID:b22ebcd4-fbcf-11ed-afc0-0aba5b0dc645
DTSTAMP:20230526T141458Z
SUMMARY:Grade 8 Moving Up Ceremony
URL;VALUE=URI:https://www.albanyschools.org/schools/northalbany/calendar/43
 04761/grade-8-moving-up-ceremony
DTSTART:20230623T140000Z
DTEND:20230623T150000Z
END:VEVENT
END:VCALENDAR
