BEGIN:VCALENDAR
VERSION:2.0
PRODID:SchoolNow
CALSCALE:GREGORIAN
BEGIN:VEVENT
UID:da1cd546-fbcf-11ed-8813-0aba5b0dc645
DTSTAMP:20230526T141605Z
SUMMARY:BBQ/PTO/Movie Night
URL;VALUE=URI:https://www.albanyschools.org/schools/northalbany/calendar/43
 04762/bbq-pto-movie-night
DTSTART:20230531T193000Z
DTEND:20230531T233000Z
END:VEVENT
END:VCALENDAR
