BEGIN:VCALENDAR
VERSION:2.0
PRODID:SchoolNow
CALSCALE:GREGORIAN
BEGIN:VEVENT
UID:f754f1fc-fbcf-11ed-9d5d-0aba5b0dc645
DTSTAMP:20230526T141654Z
SUMMARY:Grade 6 field trip to the Valley Cats
URL;VALUE=URI:https://www.albanyschools.org/schools/northalbany/calendar/43
 04763/grade-6-field-trip-to-the-valley-cats
DTSTART:20230614T141600Z
DTEND:20230614T151600Z
END:VEVENT
END:VCALENDAR
