BEGIN:VCALENDAR
VERSION:2.0
PRODID:SchoolNow
CALSCALE:GREGORIAN
BEGIN:VEVENT
UID:0819d926-fbd0-11ed-9724-0aba5b0dc645
DTSTAMP:20230526T141722Z
SUMMARY:Ice Cream Social
URL;VALUE=URI:https://www.albanyschools.org/schools/northalbany/calendar/43
 04764/ice-cream-social
DTSTART:20230616T141700Z
DTEND:20230616T151700Z
END:VEVENT
END:VCALENDAR
