BEGIN:VCALENDAR
VERSION:2.0
PRODID:SchoolNow
CALSCALE:GREGORIAN
BEGIN:VEVENT
UID:1748d348-fbd0-11ed-aac2-0aba5b0dc645
DTSTAMP:20230526T141748Z
SUMMARY:Field Day
URL;VALUE=URI:https://www.albanyschools.org/schools/northalbany/calendar/43
 04765/field-day
DTSTART:20230621T141700Z
DTEND:20230621T151700Z
END:VEVENT
END:VCALENDAR
