BEGIN:VCALENDAR
VERSION:2.0
PRODID:SchoolNow
CALSCALE:GREGORIAN
BEGIN:VEVENT
UID:2a0edc16-fbd0-11ed-85a1-0aba5b0dc645
DTSTAMP:20230526T141819Z
SUMMARY:Grade 8 semi-formal dance
URL;VALUE=URI:https://www.albanyschools.org/schools/northalbany/calendar/43
 04766/grade-8-semi-formal-dance
DTSTART:20230622T213000Z
DTEND:20230623T003000Z
END:VEVENT
END:VCALENDAR
