BEGIN:VCALENDAR
VERSION:2.0
PRODID:SchoolNow
CALSCALE:GREGORIAN
BEGIN:VEVENT
UID:b3881bf2-42b9-11ef-afa2-0261e29961bf
DTSTAMP:20240715T145817Z
SUMMARY:Grade 6 Transition Camp
URL;VALUE=URI:https://www.albanyschools.org/schools/northalbany/calendar/62
 62056/grade-6-transition-camp
DTSTART:20240820T123000Z
DTEND:20240822T153000Z
END:VEVENT
END:VCALENDAR
