BEGIN:VCALENDAR
VERSION:2.0
PRODID:SchoolNow
CALSCALE:GREGORIAN
BEGIN:VEVENT
UID:0edc0e16-7cec-11ef-9bf1-0a58a9feac02
DTSTAMP:20240927T161757Z
SUMMARY:Community Walk
URL;VALUE=URI:https://www.albanyschools.org/schools/northalbany/calendar/67
 02998/community-walk
DTSTART:20241016T190000Z
DTEND:20241016T200000Z
END:VEVENT
END:VCALENDAR
