BEGIN:VCALENDAR
VERSION:2.0
PRODID:SchoolNow
CALSCALE:GREGORIAN
BEGIN:VEVENT
UID:310e7f94-9233-11ef-8c29-0a58a9feac02
DTSTAMP:20241024T181003Z
SUMMARY:Virtual safety meeting (Friday morning)
URL;VALUE=URI:https://www.albanyschools.org/schools/northalbany/calendar/68
 89830/virtual-safety-meeting-friday-morning
DTSTART:20241025T123000Z
DTEND:20241025T131500Z
END:VEVENT
END:VCALENDAR
