BEGIN:VCALENDAR
VERSION:2.0
PRODID:SchoolNow
CALSCALE:GREGORIAN
BEGIN:VEVENT
UID:030d59a4-be07-11e9-8583-0a1f5f0d2de0
DTSTAMP:20190904T145338Z
SUMMARY:Open House
URL;VALUE=URI:https://www.albanyschools.org/schools/oneal/calendar/2062479/
 open-house
DTSTART:20190917T220000Z
DTEND:20190918T000000Z
END:VEVENT
END:VCALENDAR
