BEGIN:VCALENDAR
VERSION:2.0
PRODID:SchoolNow
CALSCALE:GREGORIAN
BEGIN:VEVENT
UID:030f340e-be07-11e9-8967-0a1f5f0d2de0
DTSTAMP:20190813T201453Z
SUMMARY:Hispanic Heritage Celebration
URL;VALUE=URI:https://www.albanyschools.org/schools/oneal/calendar/2062531/
 hispanic-heritage-celebration
DTSTART:20191015T133000Z
DTEND:20191016T035959Z
END:VEVENT
END:VCALENDAR
