BEGIN:VCALENDAR
VERSION:2.0
PRODID:SchoolNow
CALSCALE:GREGORIAN
BEGIN:VEVENT
UID:03147ee6-be07-11e9-bd4c-0a1f5f0d2de0
DTSTAMP:20191206T173817Z
SUMMARY:Winter Concert (evening)
URL;VALUE=URI:https://www.albanyschools.org/schools/oneal/calendar/2062743/
 winter-concert
DTSTART:20191217T210000Z
DTEND:20191218T045900Z
END:VEVENT
END:VCALENDAR
