BEGIN:VCALENDAR
VERSION:2.0
PRODID:SchoolNow
CALSCALE:GREGORIAN
BEGIN:VEVENT
UID:03173c9e-be07-11e9-ba4a-0a1f5f0d2de0
DTSTAMP:20190904T145720Z
SUMMARY:Honor Roll Breakfast
URL;VALUE=URI:https://www.albanyschools.org/schools/oneal/calendar/2062878/
 honor-roll-breakfast
DTSTART:20200225T140000Z
DTEND:20200226T045900Z
END:VEVENT
END:VCALENDAR
