BEGIN:VCALENDAR
VERSION:2.0
PRODID:SchoolNow
CALSCALE:GREGORIAN
BEGIN:VEVENT
UID:03175b70-be07-11e9-a919-0a1f5f0d2de0
DTSTAMP:20190904T145819Z
SUMMARY:Black History Month Celebration
URL;VALUE=URI:https://www.albanyschools.org/schools/oneal/calendar/2062884/
 black-history-month-celebration
DTSTART:20200226T183000Z
DTEND:20200227T045900Z
END:VEVENT
END:VCALENDAR
