BEGIN:VCALENDAR
VERSION:2.0
PRODID:SchoolNow
CALSCALE:GREGORIAN
BEGIN:VEVENT
UID:30dfe864-d8b1-11e9-adf6-121f9dc736ee
DTSTAMP:20190916T183835Z
SUMMARY:Dads Take Your Child to School Day breakfast
URL;VALUE=URI:https://www.albanyschools.org/schools/oneal/calendar/2095352/
 dads-take-your-child-to-school-day-breakfast
DTSTART:20190917T113000Z
DTEND:20190917T130000Z
END:VEVENT
END:VCALENDAR
