BEGIN:VCALENDAR
VERSION:2.0
PRODID:SchoolNow
CALSCALE:GREGORIAN
BEGIN:VEVENT
UID:b30fe8ec-da10-11e9-b022-0a9c6468ac2e
DTSTAMP:20190918T123447Z
SUMMARY:Winter Concert (afternoon)
URL;VALUE=URI:https://www.albanyschools.org/schools/oneal/calendar/2097780/
 winter-concert-afternoon
DTSTART:20191217T190000Z
DTEND:20191218T055900Z
END:VEVENT
END:VCALENDAR
