BEGIN:VCALENDAR
VERSION:2.0
PRODID:SchoolNow
CALSCALE:GREGORIAN
BEGIN:VEVENT
UID:862306b6-e08c-11e9-8f1a-0ae1faeb7378
DTSTAMP:20200103T174548Z
SUMMARY:Parent University: Vaping and Teen Safety
LOCATION:O'Neal Middle School
URL;VALUE=URI:https://www.albanyschools.org/schools/oneal/calendar/2106215/
 parent-university
DTSTART:20200226T223000Z
DTEND:20200227T000000Z
END:VEVENT
END:VCALENDAR
