BEGIN:VCALENDAR
VERSION:2.0
PRODID:SchoolNow
CALSCALE:GREGORIAN
BEGIN:VEVENT
UID:2e9b566a-e91e-11e9-9b01-0a7e3ce900c2
DTSTAMP:20191007T161905Z
SUMMARY:2020-21 Albany High academy lottery applications available
URL;VALUE=URI:https://www.albanyschools.org/schools/oneal/calendar/2115977/
 2020-21-academy-lottery-applications-available
DTSTART:20191008T201600Z
DTEND:20191008T211600Z
END:VEVENT
END:VCALENDAR
