BEGIN:VCALENDAR
VERSION:2.0
PRODID:SchoolNow
CALSCALE:GREGORIAN
BEGIN:VEVENT
UID:7afaee2c-a731-11ea-98f4-12ce21ddb375
DTSTAMP:20200605T133554Z
SUMMARY:Grade 8 virtual promotion ceremony
URL;VALUE=URI:https://www.albanyschools.org/schools/oneal/calendar/2256896/
 grade-8-virtual-promotion-ceremony
DTSTART:20200618T150000Z
DTEND:20200618T160000Z
END:VEVENT
END:VCALENDAR
