BEGIN:VCALENDAR
VERSION:2.0
PRODID:SchoolNow
CALSCALE:GREGORIAN
BEGIN:VEVENT
UID:965c63da-f2db-11ea-ac32-0a680430e4fd
DTSTAMP:20200909T203645Z
SUMMARY:Grade 8 Virtual Student and Parent Orientation
URL;VALUE=URI:https://www.albanyschools.org/schools/oneal/calendar/2343676/
 grade-8-student-and-parent-orientation
DTSTART:20200910T163000Z
DTEND:20200910T171000Z
END:VEVENT
END:VCALENDAR
