BEGIN:VCALENDAR
VERSION:2.0
PRODID:SchoolNow
CALSCALE:GREGORIAN
BEGIN:VEVENT
UID:1767a3f4-f2dc-11ea-80a8-12d211559d81
DTSTAMP:20200909T203716Z
SUMMARY:Grade 7 Virtual Student and Parent Orientation
URL;VALUE=URI:https://www.albanyschools.org/schools/oneal/calendar/2343678/
 grade-7-student-and-parent-orientation
DTSTART:20200910T172000Z
DTEND:20200910T180000Z
END:VEVENT
END:VCALENDAR
