BEGIN:VCALENDAR
VERSION:2.0
PRODID:SchoolNow
CALSCALE:GREGORIAN
BEGIN:VEVENT
UID:943712ca-f2dc-11ea-9b64-1252a4651265
DTSTAMP:20200909T210852Z
SUMMARY:Special Ed Virtual Student and Parent Orientation
URL;VALUE=URI:https://www.albanyschools.org/schools/oneal/calendar/2343679/
 special-ed-virtual-student-and-parent-orientation
DTSTART:20200910T181000Z
DTEND:20200910T185000Z
END:VEVENT
END:VCALENDAR
