BEGIN:VCALENDAR
VERSION:2.0
PRODID:SchoolNow
CALSCALE:GREGORIAN
BEGIN:VEVENT
UID:c3ee7e06-f393-11ea-a969-0a56a2a319fd
DTSTAMP:20200910T183056Z
SUMMARY:Half-day of virtual instruction for all students
URL;VALUE=URI:https://www.albanyschools.org/schools/oneal/calendar/2345157/
 half-day-of-virtual-instruction-for-all-students
DTSTART:20200911T161500Z
DTEND:20200911T190000Z
END:VEVENT
END:VCALENDAR
