BEGIN:VCALENDAR
VERSION:2.0
PRODID:SchoolNow
CALSCALE:GREGORIAN
BEGIN:VEVENT
UID:873ff05e-07fa-11eb-8dac-0aea98acbd35
DTSTAMP:20201006T173655Z
SUMMARY:Supplies and materials pickup
LOCATION:Third Street entrance
URL;VALUE=URI:https://www.albanyschools.org/schools/oneal/calendar/2421416/
 supplies-and-materials-pickup
DTSTART:20201007T120000Z
DTEND:20201007T190000Z
END:VEVENT
END:VCALENDAR
