BEGIN:VCALENDAR
VERSION:2.0
PRODID:SchoolNow
CALSCALE:GREGORIAN
BEGIN:VEVENT
UID:b3dd38f6-07fa-11eb-8a2e-0aea98acbd35
DTSTAMP:20201006T173810Z
SUMMARY:Supplies and materials pickup
LOCATION:Third Street entrance
URL;VALUE=URI:https://www.albanyschools.org/schools/oneal/calendar/2421417/
 supplies-and-materials-pickup
DTSTART:20201008T120000Z
DTEND:20201008T190000Z
END:VEVENT
END:VCALENDAR
