BEGIN:VCALENDAR
VERSION:2.0
PRODID:SchoolNow
CALSCALE:GREGORIAN
BEGIN:VEVENT
UID:e0af5d0a-07fa-11eb-953b-0aea98acbd35
DTSTAMP:20201006T173925Z
SUMMARY:Supplies and materials pickup
LOCATION:Third Street entrance
URL;VALUE=URI:https://www.albanyschools.org/schools/oneal/calendar/2421418/
 supplies-and-materials-pickup
DTSTART:20201009T120000Z
DTEND:20201009T190000Z
END:VEVENT
END:VCALENDAR
