BEGIN:VCALENDAR
VERSION:2.0
PRODID:SchoolNow
CALSCALE:GREGORIAN
BEGIN:VEVENT
UID:c27dcd62-0a39-11eb-8948-1230477da855
DTSTAMP:20201009T141435Z
SUMMARY:Virtual Parent University: Family Meals (daytime)
URL;VALUE=URI:https://www.albanyschools.org/schools/oneal/calendar/2434237/
 family-meals-daytime
DTSTART:20201013T150000Z
DTEND:20201013T160000Z
END:VEVENT
END:VCALENDAR
