BEGIN:VCALENDAR
VERSION:2.0
PRODID:SchoolNow
CALSCALE:GREGORIAN
BEGIN:VEVENT
UID:039d27b6-0a3a-11eb-8bb1-0affe77c1951
DTSTAMP:20201009T141624Z
SUMMARY:Virtual Parent University: Family Time and Active Fun (daytime)
URL;VALUE=URI:https://www.albanyschools.org/schools/oneal/calendar/2434271/
 family-time-and-active-fun-daytime
DTSTART:20201027T150000Z
DTEND:20201027T160000Z
END:VEVENT
END:VCALENDAR
