BEGIN:VCALENDAR
VERSION:2.0
PRODID:SchoolNow
CALSCALE:GREGORIAN
BEGIN:VEVENT
UID:4265c1d8-0a3a-11eb-ae5e-12487913aa3d
DTSTAMP:20201009T141810Z
SUMMARY:Virtual Parent University: Family Meals (evening)
URL;VALUE=URI:https://www.albanyschools.org/schools/oneal/calendar/2434306/
 family-meals-evening
DTSTART:20201014T230000Z
DTEND:20201015T000000Z
END:VEVENT
END:VCALENDAR
