BEGIN:VCALENDAR
VERSION:2.0
PRODID:SchoolNow
CALSCALE:GREGORIAN
BEGIN:VEVENT
UID:cbe8c714-1306-11eb-b8a3-0a52f2413687
DTSTAMP:20201021T205143Z
SUMMARY:Virtual open house Wednesday
URL;VALUE=URI:https://www.albanyschools.org/schools/oneal/calendar/2475830/
 virtual-open-house-wednesday
DTSTART:20201021T210000Z
DTEND:20201022T000000Z
END:VEVENT
END:VCALENDAR
