BEGIN:VCALENDAR
VERSION:2.0
PRODID:SchoolNow
CALSCALE:GREGORIAN
BEGIN:VEVENT
UID:edfcd81e-33da-11eb-a4b0-0a1683c8582b
DTSTAMP:20201201T134135Z
SUMMARY:Toys for Tots pickup
URL;VALUE=URI:https://www.albanyschools.org/schools/oneal/calendar/2506112/
 toys-for-tots-pickup
DTSTART:20201216T150000Z
DTEND:20201217T000000Z
END:VEVENT
END:VCALENDAR
