BEGIN:VCALENDAR
VERSION:2.0
PRODID:SchoolNow
CALSCALE:GREGORIAN
BEGIN:VEVENT
UID:1e775e42-3bba-11eb-9eab-127a56757549
DTSTAMP:20201211T140710Z
SUMMARY:Virtual Honor Roll Ceremony
URL;VALUE=URI:https://www.albanyschools.org/schools/oneal/calendar/2511281/
 virtual-honor-roll-ceremony
DTSTART:20201215T153000Z
DTEND:20201215T163000Z
END:VEVENT
END:VCALENDAR
