BEGIN:VCALENDAR
VERSION:2.0
PRODID:SchoolNow
CALSCALE:GREGORIAN
BEGIN:VEVENT
UID:5ef38650-6638-11eb-a9a1-022e2d8954ad
DTSTAMP:20210203T155626Z
SUMMARY:Black History Month Spirit Week
URL;VALUE=URI:https://www.albanyschools.org/schools/oneal/calendar/2534239/
 black-history-month-spirit-week
DTSTART;VALUE=DATE:20210208
DTEND;VALUE=DATE:20210213
END:VEVENT
END:VCALENDAR
