BEGIN:VCALENDAR
VERSION:2.0
PRODID:SchoolNow
CALSCALE:GREGORIAN
BEGIN:VEVENT
UID:ea374f1c-6638-11eb-8e31-0a4e021f88a3
DTSTAMP:20210203T160019Z
SUMMARY:Virtual Honor Roll Ceremony
URL;VALUE=URI:https://www.albanyschools.org/schools/oneal/calendar/2534240/
 virtual-honor-roll-ceremony
DTSTART:20210223T140000Z
DTEND:20210223T150000Z
END:VEVENT
END:VCALENDAR
