BEGIN:VCALENDAR
VERSION:2.0
PRODID:SchoolNow
CALSCALE:GREGORIAN
BEGIN:VEVENT
UID:489c3116-9867-11eb-b5b1-0a362c75f02f
DTSTAMP:20210408T145839Z
SUMMARY:New York State English Language Arts (ELA) test\, grades 3-8
URL;VALUE=URI:https://www.albanyschools.org/schools/oneal/calendar/2568636/
 new-york-state-english-language-arts-ela-exam-grades-3-8
DTSTART;VALUE=DATE:20210421
DTEND;VALUE=DATE:20210422
END:VEVENT
END:VCALENDAR
