BEGIN:VCALENDAR
VERSION:2.0
PRODID:SchoolNow
CALSCALE:GREGORIAN
BEGIN:VEVENT
UID:f9a336a4-add8-11eb-8f1b-0e62d80babef
DTSTAMP:20210505T193457Z
SUMMARY:Third-quarter honor roll celebration
URL;VALUE=URI:https://www.albanyschools.org/schools/oneal/calendar/2594357/
 third-quarter-honor-roll-celebration
DTSTART:20210519T130000Z
DTEND:20210519T140000Z
END:VEVENT
END:VCALENDAR
